Package: plasmut Version: 1.8.0 Command: /home/biocbuild/R/R/bin/R CMD INSTALL plasmut StartedAt: 2025-11-10 21:14:15 -0000 (Mon, 10 Nov 2025) EndedAt: 2025-11-10 21:14:55 -0000 (Mon, 10 Nov 2025) EllapsedTime: 39.6 seconds RetCode: 0 Status: OK