Package: plasmut Version: 1.8.0 Command: /home/biocbuild/R/R/bin/R CMD check --install=check:plasmut.install-out.txt --library=/home/biocbuild/R/R/site-library --no-vignettes --timings plasmut_1.8.0.tar.gz StartedAt: 2025-11-11 13:11:31 -0000 (Tue, 11 Nov 2025) EndedAt: 2025-11-11 13:12:08 -0000 (Tue, 11 Nov 2025) EllapsedTime: 37.1 seconds RetCode: 0 Status: OK CheckDir: plasmut.Rcheck Warnings: 0