Package: plasmut Version: 1.7.0 Command: rm -rf plasmut.buildbin-libdir && mkdir plasmut.buildbin-libdir && F:\biocbuild\bbs-3.22-bioc\R\bin\R.exe CMD INSTALL --build --library=plasmut.buildbin-libdir plasmut_1.7.0.tar.gz StartedAt: 2025-08-15 10:58:03 -0400 (Fri, 15 Aug 2025) EndedAt: 2025-08-15 10:58:12 -0400 (Fri, 15 Aug 2025) EllapsedTime: 8.5 seconds RetCode: 0 Status: OK PackageFile: plasmut_1.7.0.zip PackageFileSize: 291.7 KiB