Package: plasmut Version: 1.8.0 Command: /home/biocbuild/bbs-3.22-bioc/R/bin/R CMD build --keep-empty-dirs --no-resave-data --md5 plasmut StartedAt: 2025-11-06 19:19:20 -0500 (Thu, 06 Nov 2025) EndedAt: 2025-11-06 19:21:36 -0500 (Thu, 06 Nov 2025) EllapsedTime: 136.1 seconds RetCode: 0 Status: OK PackageFile: plasmut_1.8.0.tar.gz PackageFileSize: 357.5 KiB