Package: pipeFrame Version: 1.24.0 Command: chmod a+r pipeFrame -R && E:\biocbuild\bbs-3.21-bioc\R\bin\R.exe CMD build --keep-empty-dirs --no-resave-data pipeFrame StartedAt: 2025-08-14 21:18:20 -0400 (Thu, 14 Aug 2025) EndedAt: 2025-08-14 21:19:42 -0400 (Thu, 14 Aug 2025) EllapsedTime: 81.7 seconds RetCode: 0 Status: OK PackageFile: pipeFrame_1.24.0.tar.gz PackageFileSize: 1.196 MiB