Package: pickgene Version: 1.80.0 Command: /Library/Frameworks/R.framework/Resources/bin/R CMD INSTALL pickgene StartedAt: 2025-04-21 15:01:23 -0400 (Mon, 21 Apr 2025) EndedAt: 2025-04-21 15:01:24 -0400 (Mon, 21 Apr 2025) EllapsedTime: 1.3 seconds RetCode: 0 Status: OK