Package: pickgene Version: 1.80.0 Command: /Library/Frameworks/R.framework/Resources/bin/R CMD build --keep-empty-dirs --no-resave-data pickgene StartedAt: 2025-04-21 17:16:28 -0400 (Mon, 21 Apr 2025) EndedAt: 2025-04-21 17:16:32 -0400 (Mon, 21 Apr 2025) EllapsedTime: 4.0 seconds RetCode: 0 Status: OK PackageFile: pickgene_1.80.0.tar.gz PackageFileSize: 304.9 KiB