Package: pickgene Version: 1.80.0 Command: rm -rf pickgene.buildbin-libdir && mkdir pickgene.buildbin-libdir && /Users/biocbuild/BBS/utils/build-universal.sh pickgene_1.80.0.tar.gz /Library/Frameworks/R.framework/Resources/bin/R pickgene.buildbin-libdir StartedAt: 2025-04-21 22:46:19 -0400 (Mon, 21 Apr 2025) EndedAt: 2025-04-21 22:46:21 -0400 (Mon, 21 Apr 2025) EllapsedTime: 2.1 seconds RetCode: 0 Status: OK PackageFile: pickgene_1.80.0.tgz PackageFileSize: 399.2 KiB