Package: phyloseq Version: 1.52.0 Command: E:\biocbuild\bbs-3.21-bioc\R\bin\R.exe CMD check --no-multiarch --install=check:phyloseq.install-out.txt --library=E:\biocbuild\bbs-3.21-bioc\R\library --no-vignettes --timings phyloseq_1.52.0.tar.gz StartedAt: 2025-08-15 05:23:56 -0400 (Fri, 15 Aug 2025) EndedAt: 2025-08-15 05:29:50 -0400 (Fri, 15 Aug 2025) EllapsedTime: 354.9 seconds RetCode: 0 Status: WARNINGS CheckDir: phyloseq.Rcheck Warnings: 1