Package: phyloseq Version: 1.52.0 Command: chmod a+r phyloseq -R && E:\biocbuild\bbs-3.21-bioc\R\bin\R.exe CMD build --keep-empty-dirs --no-resave-data phyloseq StartedAt: 2025-08-14 21:17:39 -0400 (Thu, 14 Aug 2025) EndedAt: 2025-08-14 21:25:17 -0400 (Thu, 14 Aug 2025) EllapsedTime: 458.3 seconds RetCode: 0 Status: OK PackageFile: phyloseq_1.52.0.tar.gz PackageFileSize: 4.039 MiB