Package: phyloseq Version: 1.52.0 Command: rm -rf phyloseq.buildbin-libdir && mkdir phyloseq.buildbin-libdir && E:\biocbuild\bbs-3.21-bioc\R\bin\R.exe CMD INSTALL --build --library=phyloseq.buildbin-libdir phyloseq_1.52.0.tar.gz StartedAt: 2025-08-15 09:56:40 -0400 (Fri, 15 Aug 2025) EndedAt: 2025-08-15 09:58:39 -0400 (Fri, 15 Aug 2025) EllapsedTime: 118.9 seconds RetCode: 0 Status: OK PackageFile: phyloseq_1.52.0.zip PackageFileSize: 4.367 MiB