Package: phyloseq Version: 1.52.0 Command: /home/biocbuild/R/R/bin/R CMD INSTALL phyloseq StartedAt: 2025-10-06 20:29:02 -0000 (Mon, 06 Oct 2025) EndedAt: 2025-10-06 20:29:38 -0000 (Mon, 06 Oct 2025) EllapsedTime: 36.3 seconds RetCode: 0 Status: OK