Package: phyloseq Version: 1.52.0 Command: /home/biocbuild/R/R/bin/R CMD check --install=check:phyloseq.install-out.txt --library=/home/biocbuild/R/R/site-library --no-vignettes --timings phyloseq_1.52.0.tar.gz StartedAt: 2025-10-07 12:57:34 -0000 (Tue, 07 Oct 2025) EndedAt: 2025-10-07 13:04:12 -0000 (Tue, 07 Oct 2025) EllapsedTime: 398.7 seconds RetCode: 0 Status: WARNINGS CheckDir: phyloseq.Rcheck Warnings: 1