Package: phyloseq Version: 1.52.0 Command: /home/biocbuild/R/R/bin/R CMD build --keep-empty-dirs --no-resave-data phyloseq StartedAt: 2025-10-07 03:34:21 -0000 (Tue, 07 Oct 2025) EndedAt: 2025-10-07 03:36:41 -0000 (Tue, 07 Oct 2025) EllapsedTime: 140.1 seconds RetCode: 0 Status: OK PackageFile: phyloseq_1.52.0.tar.gz PackageFileSize: 5.825 MiB