Package: philr Version: 1.34.0 Command: /Library/Frameworks/R.framework/Resources/bin/R CMD INSTALL philr StartedAt: 2025-10-13 15:18:49 -0400 (Mon, 13 Oct 2025) EndedAt: 2025-10-13 15:19:08 -0400 (Mon, 13 Oct 2025) EllapsedTime: 19.0 seconds RetCode: 0 Status: OK