Package: phenopath Version: 1.34.0 Command: /home/biocbuild/R/R/bin/R CMD INSTALL phenopath StartedAt: 2025-11-13 21:24:23 -0000 (Thu, 13 Nov 2025) EndedAt: 2025-11-13 21:25:11 -0000 (Thu, 13 Nov 2025) EllapsedTime: 47.2 seconds RetCode: 0 Status: OK