Package: phenopath Version: 1.34.0 Command: /home/biocbuild/bbs-3.22-bioc/R/bin/R CMD INSTALL phenopath StartedAt: 2025-11-06 15:17:22 -0500 (Thu, 06 Nov 2025) EndedAt: 2025-11-06 15:17:57 -0500 (Thu, 06 Nov 2025) EllapsedTime: 34.9 seconds RetCode: 0 Status: OK