Package: phenopath Version: 1.34.0 Command: /home/biocbuild/bbs-3.22-bioc/R/bin/R CMD check --install=check:phenopath.install-out.txt --library=/home/biocbuild/bbs-3.22-bioc/R/site-library --timings phenopath_1.34.0.tar.gz StartedAt: 2025-11-07 02:36:47 -0500 (Fri, 07 Nov 2025) EndedAt: 2025-11-07 02:40:01 -0500 (Fri, 07 Nov 2025) EllapsedTime: 194.2 seconds RetCode: 0 Status: OK CheckDir: phenopath.Rcheck Warnings: 0