Package: phenopath Version: 1.34.0 Command: /home/biocbuild/bbs-3.22-bioc/R/bin/R CMD build --keep-empty-dirs --no-resave-data --md5 phenopath StartedAt: 2025-11-06 19:17:56 -0500 (Thu, 06 Nov 2025) EndedAt: 2025-11-06 19:18:47 -0500 (Thu, 06 Nov 2025) EllapsedTime: 51.1 seconds RetCode: 0 Status: OK PackageFile: phenopath_1.34.0.tar.gz PackageFileSize: 1.335 MiB