Package: phenopath Version: 1.34.0 Command: /Library/Frameworks/R.framework/Resources/bin/R CMD INSTALL phenopath StartedAt: 2025-10-31 15:14:58 -0400 (Fri, 31 Oct 2025) EndedAt: 2025-10-31 15:15:10 -0400 (Fri, 31 Oct 2025) EllapsedTime: 12.4 seconds RetCode: 0 Status: OK