Package: phenopath Version: 1.34.0 Command: /Library/Frameworks/R.framework/Resources/bin/R CMD build --keep-empty-dirs --no-resave-data phenopath StartedAt: 2025-11-02 17:20:12 -0500 (Sun, 02 Nov 2025) EndedAt: 2025-11-02 17:20:32 -0500 (Sun, 02 Nov 2025) EllapsedTime: 20.2 seconds RetCode: 0 Status: OK PackageFile: phenopath_1.34.0.tar.gz PackageFileSize: 1.307 MiB