Package: phenoTest Version: 1.56.0 Command: chmod a+r phenoTest -R && E:\biocbuild\bbs-3.21-bioc\R\bin\R.exe CMD build --keep-empty-dirs --no-resave-data phenoTest StartedAt: 2025-08-14 21:16:35 -0400 (Thu, 14 Aug 2025) EndedAt: 2025-08-14 21:17:55 -0400 (Thu, 14 Aug 2025) EllapsedTime: 80.8 seconds RetCode: 0 Status: OK PackageFile: phenoTest_1.56.0.tar.gz PackageFileSize: 1.098 MiB