Package: phantasusLite Version: 1.8.0 Command: /home/biocbuild/bbs-3.22-bioc/R/bin/R CMD INSTALL phantasusLite StartedAt: 2025-11-06 16:00:50 -0500 (Thu, 06 Nov 2025) EndedAt: 2025-11-06 16:01:08 -0500 (Thu, 06 Nov 2025) EllapsedTime: 17.5 seconds RetCode: 0 Status: OK