Package: phantasusLite Version: 1.8.0 Command: /home/biocbuild/bbs-3.22-bioc/R/bin/R CMD build --keep-empty-dirs --no-resave-data --md5 phantasusLite StartedAt: 2025-11-06 19:17:23 -0500 (Thu, 06 Nov 2025) EndedAt: 2025-11-06 19:18:09 -0500 (Thu, 06 Nov 2025) EllapsedTime: 46.1 seconds RetCode: 0 Status: OK PackageFile: phantasusLite_1.8.0.tar.gz PackageFileSize: 234.8 KiB