Package: phantasusLite Version: 1.8.0 Command: /Library/Frameworks/R.framework/Resources/bin/R CMD build --keep-empty-dirs --no-resave-data phantasusLite StartedAt: 2025-11-03 18:14:01 -0500 (Mon, 03 Nov 2025) EndedAt: 2025-11-03 18:15:03 -0500 (Mon, 03 Nov 2025) EllapsedTime: 61.7 seconds RetCode: 0 Status: OK PackageFile: phantasusLite_1.8.0.tar.gz PackageFileSize: 233.4 KiB