Package: phantasusLite Version: 1.8.0 Command: rm -rf phantasusLite.buildbin-libdir && mkdir phantasusLite.buildbin-libdir && /Users/biocbuild/BBS/utils/build-universal.sh phantasusLite_1.8.0.tar.gz /Library/Frameworks/R.framework/Resources/bin/R phantasusLite.buildbin-libdir StartedAt: 2025-11-03 01:56:08 -0500 (Mon, 03 Nov 2025) EndedAt: 2025-11-03 01:56:35 -0500 (Mon, 03 Nov 2025) EllapsedTime: 27.8 seconds RetCode: 0 Status: OK PackageFile: phantasusLite_1.8.0.tgz PackageFileSize: 304 KiB