Package: phantasus Version: 1.29.0 Command: /home/biocbuild/R/R/bin/R CMD INSTALL phantasus StartedAt: 2025-10-23 21:24:53 -0000 (Thu, 23 Oct 2025) EndedAt: 2025-10-23 21:25:39 -0000 (Thu, 23 Oct 2025) EllapsedTime: 45.9 seconds RetCode: 0 Status: OK