Package: phantasus Version: 1.29.0 Command: /home/biocbuild/R/R/bin/R CMD build --keep-empty-dirs --no-resave-data phantasus StartedAt: 2025-10-21 02:02:13 -0000 (Tue, 21 Oct 2025) EndedAt: 2025-10-21 02:03:08 -0000 (Tue, 21 Oct 2025) EllapsedTime: 55.0 seconds RetCode: 0 Status: OK PackageFile: phantasus_1.29.0.tar.gz PackageFileSize: 9.609 MiB