Package: phantasus Version: 1.30.0 Command: /home/biocbuild/bbs-3.22-bioc/R/bin/R CMD build --keep-empty-dirs --no-resave-data --md5 phantasus StartedAt: 2025-11-09 19:24:08 -0500 (Sun, 09 Nov 2025) EndedAt: 2025-11-09 19:24:48 -0500 (Sun, 09 Nov 2025) EllapsedTime: 40.0 seconds RetCode: 0 Status: OK PackageFile: phantasus_1.30.0.tar.gz PackageFileSize: 9.55 MiB