Package: phantasus Version: 1.30.0 Command: /Library/Frameworks/R.framework/Resources/bin/R CMD INSTALL phantasus StartedAt: 2025-11-17 18:55:12 -0500 (Mon, 17 Nov 2025) EndedAt: 2025-11-17 18:56:32 -0500 (Mon, 17 Nov 2025) EllapsedTime: 79.2 seconds RetCode: 0 Status: OK