Package: phantasus Version: 1.30.0 Command: /Library/Frameworks/R.framework/Resources/bin/R CMD build --keep-empty-dirs --no-resave-data phantasus StartedAt: 2025-11-18 01:05:07 -0500 (Tue, 18 Nov 2025) EndedAt: 2025-11-18 01:06:52 -0500 (Tue, 18 Nov 2025) EllapsedTime: 105.5 seconds RetCode: 0 Status: OK PackageFile: phantasus_1.30.0.tar.gz PackageFileSize: 9.551 MiB