Package: phantasus Version: 1.30.0 Command: /Library/Frameworks/R.framework/Resources/bin/R CMD INSTALL phantasus StartedAt: 2025-11-10 15:31:44 -0500 (Mon, 10 Nov 2025) EndedAt: 2025-11-10 15:31:58 -0500 (Mon, 10 Nov 2025) EllapsedTime: 14.4 seconds RetCode: 0 Status: OK