Package: periodicDNA Version: 1.20.0 Command: /Library/Frameworks/R.framework/Resources/bin/R CMD INSTALL periodicDNA StartedAt: 2025-11-10 15:16:57 -0500 (Mon, 10 Nov 2025) EndedAt: 2025-11-10 15:17:11 -0500 (Mon, 10 Nov 2025) EllapsedTime: 14.6 seconds RetCode: 0 Status: OK