Package: periodicDNA Version: 1.20.0 Command: /Library/Frameworks/R.framework/Resources/bin/R CMD build --keep-empty-dirs --no-resave-data periodicDNA StartedAt: 2025-11-10 17:20:33 -0500 (Mon, 10 Nov 2025) EndedAt: 2025-11-10 17:21:10 -0500 (Mon, 10 Nov 2025) EllapsedTime: 37.4 seconds RetCode: 0 Status: OK PackageFile: periodicDNA_1.20.0.tar.gz PackageFileSize: 2.961 MiB