Package: pepXMLTab Version: 1.44.0 Command: /home/biocbuild/bbs-3.22-bioc/R/bin/R CMD check --install=check:pepXMLTab.install-out.txt --library=/home/biocbuild/bbs-3.22-bioc/R/site-library --timings pepXMLTab_1.44.0.tar.gz StartedAt: 2025-11-10 02:50:21 -0500 (Mon, 10 Nov 2025) EndedAt: 2025-11-10 02:50:45 -0500 (Mon, 10 Nov 2025) EllapsedTime: 24.1 seconds RetCode: 0 Status: OK CheckDir: pepXMLTab.Rcheck Warnings: 0