Package: pepXMLTab Version: 1.44.0 Command: /home/biocbuild/bbs-3.22-bioc/R/bin/R CMD build --keep-empty-dirs --no-resave-data --md5 pepXMLTab StartedAt: 2025-11-09 19:23:49 -0500 (Sun, 09 Nov 2025) EndedAt: 2025-11-09 19:23:56 -0500 (Sun, 09 Nov 2025) EllapsedTime: 7.0 seconds RetCode: 0 Status: OK PackageFile: pepXMLTab_1.44.0.tar.gz PackageFileSize: 188.6 KiB