Package: pepStat Version: 1.42.0 Command: /Library/Frameworks/R.framework/Resources/bin/R CMD check --install=check:pepStat.install-out.txt --library=/Library/Frameworks/R.framework/Resources/library --no-vignettes --timings pepStat_1.42.0.tar.gz StartedAt: 2025-04-21 20:52:19 -0400 (Mon, 21 Apr 2025) EndedAt: 2025-04-21 20:53:08 -0400 (Mon, 21 Apr 2025) EllapsedTime: 49.7 seconds RetCode: 0 Status: OK CheckDir: pepStat.Rcheck Warnings: 0