Package: pengls Version: 1.15.2 Command: /home/biocbuild/R/R/bin/R CMD build --keep-empty-dirs --no-resave-data pengls StartedAt: 2025-10-21 02:01:29 -0000 (Tue, 21 Oct 2025) EndedAt: 2025-10-21 02:05:40 -0000 (Tue, 21 Oct 2025) EllapsedTime: 251.1 seconds RetCode: 0 Status: OK PackageFile: pengls_1.15.2.tar.gz PackageFileSize: 38.28 KiB