Package: pengls Version: 1.16.0 Command: /home/biocbuild/bbs-3.22-bioc/R/bin/R CMD INSTALL pengls StartedAt: 2025-11-06 15:05:43 -0500 (Thu, 06 Nov 2025) EndedAt: 2025-11-06 15:06:20 -0500 (Thu, 06 Nov 2025) EllapsedTime: 37.0 seconds RetCode: 0 Status: OK