Package: pengls Version: 1.16.0 Command: /home/biocbuild/bbs-3.22-bioc/R/bin/R CMD check --install=check:pengls.install-out.txt --library=/home/biocbuild/bbs-3.22-bioc/R/site-library --timings pengls_1.16.0.tar.gz StartedAt: 2025-11-07 02:34:49 -0500 (Fri, 07 Nov 2025) EndedAt: 2025-11-07 02:43:42 -0500 (Fri, 07 Nov 2025) EllapsedTime: 532.5 seconds RetCode: 0 Status: OK CheckDir: pengls.Rcheck Warnings: 0