Package: peco Version: 1.20.0 Command: rm -rf peco.buildbin-libdir && mkdir peco.buildbin-libdir && E:\biocbuild\bbs-3.21-bioc\R\bin\R.exe CMD INSTALL --build --library=peco.buildbin-libdir peco_1.20.0.tar.gz StartedAt: 2025-08-15 09:55:27 -0400 (Fri, 15 Aug 2025) EndedAt: 2025-08-15 09:56:08 -0400 (Fri, 15 Aug 2025) EllapsedTime: 41.4 seconds RetCode: 0 Status: OK PackageFile: peco_1.20.0.zip PackageFileSize: 1.089 MiB