Package: peakCombiner Version: 0.99.603 Command: /home/biocbuild/R/R/bin/R CMD INSTALL peakCombiner StartedAt: 2025-10-23 20:34:30 -0000 (Thu, 23 Oct 2025) EndedAt: 2025-10-23 20:34:35 -0000 (Thu, 23 Oct 2025) EllapsedTime: 5.4 seconds RetCode: 0 Status: OK