Package: peakCombiner Version: 0.99.602 Command: /home/biocbuild/R/R/bin/R CMD check --install=check:peakCombiner.install-out.txt --library=/home/biocbuild/R/R/site-library --no-vignettes --timings peakCombiner_0.99.602.tar.gz StartedAt: 2025-10-17 12:05:41 -0000 (Fri, 17 Oct 2025) EndedAt: 2025-10-17 12:07:42 -0000 (Fri, 17 Oct 2025) EllapsedTime: 121.1 seconds RetCode: 0 Status: OK CheckDir: peakCombiner.Rcheck Warnings: 0