Package: pdInfoBuilder Version: 1.72.0 Command: /Library/Frameworks/R.framework/Resources/bin/R CMD check --install=check:pdInfoBuilder.install-out.txt --library=/Library/Frameworks/R.framework/Resources/library --no-vignettes --timings pdInfoBuilder_1.72.0.tar.gz StartedAt: 2025-10-14 08:03:25 -0400 (Tue, 14 Oct 2025) EndedAt: 2025-10-14 08:09:42 -0400 (Tue, 14 Oct 2025) EllapsedTime: 376.9 seconds RetCode: 0 Status: OK CheckDir: pdInfoBuilder.Rcheck Warnings: 0