Package: pdInfoBuilder Version: 1.72.0 Command: /Library/Frameworks/R.framework/Resources/bin/R CMD build --keep-empty-dirs --no-resave-data pdInfoBuilder StartedAt: 2025-10-13 21:28:30 -0400 (Mon, 13 Oct 2025) EndedAt: 2025-10-13 21:29:55 -0400 (Mon, 13 Oct 2025) EllapsedTime: 85.1 seconds RetCode: 0 Status: OK PackageFile: pdInfoBuilder_1.72.0.tar.gz PackageFileSize: 348.1 KiB