Package: pdInfoBuilder Version: 1.72.0 Command: /Library/Frameworks/R.framework/Resources/bin/R CMD INSTALL pdInfoBuilder StartedAt: 2025-10-13 16:19:07 -0400 (Mon, 13 Oct 2025) EndedAt: 2025-10-13 16:19:44 -0400 (Mon, 13 Oct 2025) EllapsedTime: 37.3 seconds RetCode: 0 Status: OK