Package: pdInfoBuilder Version: 1.72.0 Command: /Library/Frameworks/R.framework/Resources/bin/R CMD check --install=check:pdInfoBuilder.install-out.txt --library=/Library/Frameworks/R.framework/Resources/library --no-vignettes --timings pdInfoBuilder_1.72.0.tar.gz StartedAt: 2025-10-15 07:09:04 -0400 (Wed, 15 Oct 2025) EndedAt: 2025-10-15 07:12:33 -0400 (Wed, 15 Oct 2025) EllapsedTime: 208.5 seconds RetCode: 0 Status: OK CheckDir: pdInfoBuilder.Rcheck Warnings: 0