Package: pdInfoBuilder Version: 1.72.0 Command: /Library/Frameworks/R.framework/Resources/bin/R CMD build --keep-empty-dirs --no-resave-data pdInfoBuilder StartedAt: 2025-10-14 06:24:48 -0400 (Tue, 14 Oct 2025) EndedAt: 2025-10-14 06:25:30 -0400 (Tue, 14 Oct 2025) EllapsedTime: 42.0 seconds RetCode: 0 Status: OK PackageFile: pdInfoBuilder_1.72.0.tar.gz PackageFileSize: 348.1 KiB