Package: pathwayPCA Version: 1.26.0 Command: /home/biocbuild/bbs-3.22-bioc/R/bin/R CMD build --keep-empty-dirs --no-resave-data --md5 pathwayPCA StartedAt: 2025-11-06 19:14:48 -0500 (Thu, 06 Nov 2025) EndedAt: 2025-11-06 19:17:09 -0500 (Thu, 06 Nov 2025) EllapsedTime: 141.1 seconds RetCode: 0 Status: OK PackageFile: pathwayPCA_1.26.0.tar.gz PackageFileSize: 3.395 MiB