Package: pathwayPCA Version: 1.26.0 Command: /Library/Frameworks/R.framework/Resources/bin/R CMD check --install=check:pathwayPCA.install-out.txt --library=/Library/Frameworks/R.framework/Resources/library --no-vignettes --timings pathwayPCA_1.26.0.tar.gz StartedAt: 2025-11-03 23:14:32 -0500 (Mon, 03 Nov 2025) EndedAt: 2025-11-03 23:17:22 -0500 (Mon, 03 Nov 2025) EllapsedTime: 170.6 seconds RetCode: 0 Status: OK CheckDir: pathwayPCA.Rcheck Warnings: 0